BEGIN:VCALENDAR
PRODID:-//AT Content Types//AT Event//EN
VERSION:1.0
BEGIN:VEVENT
DTSTART:20260330T220000Z
DTEND:20260330T220000Z
DCREATED:20260307T121500Z
UID:ATEvent-8062d752068b447699a4821ab313fcb8
SEQUENCE:0
LAST-MODIFIED:20260418T105215Z
SUMMARY:La Messe Chrismale
DESCRIPTION:Le mardi 31 mars 2026\, à 19 h\, à l’église Saint-Bru
 no.
LOCATION:église Saint-Bruno
PRIORITY:3
TRANSP:0
END:VEVENT
END:VCALENDAR
